BEGIN:VCALENDAR
VERSION:2.0
PRODID:-//Colorado Council of Churches - ECPv6.15.20//NONSGML v1.0//EN
CALSCALE:GREGORIAN
METHOD:PUBLISH
X-WR-CALNAME:Colorado Council of Churches
X-ORIGINAL-URL:https://cochurches.org
X-WR-CALDESC:Events for Colorado Council of Churches
REFRESH-INTERVAL;VALUE=DURATION:PT1H
X-Robots-Tag:noindex
X-PUBLISHED-TTL:PT1H
BEGIN:VTIMEZONE
TZID:UTC
BEGIN:STANDARD
TZOFFSETFROM:+0000
TZOFFSETTO:+0000
TZNAME:UTC
DTSTART:20250101T000000
END:STANDARD
END:VTIMEZONE
BEGIN:VEVENT
DTSTART;TZID=UTC:20260329T140000
DTEND;TZID=UTC:20260329T150000
DTSTAMP:20260421T083642
CREATED:20260302T224115Z
LAST-MODIFIED:20260302T230533Z
UID:10000031-1774792800-1774796400@cochurches.org
SUMMARY:Palm Sunday: Path to Love and Liberation
DESCRIPTION:On Sunday\, March 29 at 2:00 PM\, people of faith and conscience will gather on the West Steps of the Colorado State Capitol to stand for love\, liberation\, and the dignity of every person. Together\, we’ll raise a clear moral voice against systems that tear families apart and spread fear—and commit to building communities\, and public policies\, rooted in compassion and justice. \nJoin us to pray\, witness\, and take action so that all Coloradans can live in safety\, belonging\, and hope. \nLink to RSVP: https://www.mobilize.us/togethercolorado/event/913099/ 
URL:https://cochurches.org/event/15940/
LOCATION:Colorado State Capitol\, 200 W. Colfax Avenue\, Denver\, CO\, United States
CATEGORIES:Ecumenical,Voices for Justice
ATTACH;FMTTYPE=image/jpeg:https://cochurches.org/wp-content/uploads/2026/03/1.jpg
END:VEVENT
END:VCALENDAR