BEGIN:VCALENDAR
VERSION:2.0
PRODID:-//Colorado Council of Churches - ECPv6.15.20//NONSGML v1.0//EN
CALSCALE:GREGORIAN
METHOD:PUBLISH
X-ORIGINAL-URL:https://cochurches.org
X-WR-CALDESC:Events for Colorado Council of Churches
REFRESH-INTERVAL;VALUE=DURATION:PT1H
X-Robots-Tag:noindex
X-PUBLISHED-TTL:PT1H
BEGIN:VTIMEZONE
TZID:UTC
BEGIN:STANDARD
TZOFFSETFROM:+0000
TZOFFSETTO:+0000
TZNAME:UTC
DTSTART:20250101T000000
END:STANDARD
END:VTIMEZONE
BEGIN:VEVENT
DTSTART;TZID=UTC:20260224T120000
DTEND;TZID=UTC:20260224T130000
DTSTAMP:20260422T223638
CREATED:20260217T174204Z
LAST-MODIFIED:20260217T174204Z
UID:10000028-1771934400-1771938000@cochurches.org
SUMMARY:Unlock Your Advocacy Power: Making Change at the Federal Level
DESCRIPTION:For our February 2026 “Lunch ‘n’ Learn” online seminar\, Jeff Tieman of the Colorado Hospital Association will share how you can engage the federal government and become a more effective advocate for those causes that are important to you. \n\nJeff Tieman is President and Chief Executive Officer of the Colorado Hospital Association (CHA)\, which he joined in August 2022. In his role at CHA\, Jeff provides leadership and direction for the Association’s work to serve and advocate for the state’s 100+ hospitals and health systems. \nPrior to CHA\, Jeff served as the President and CEO of the Vermont Association of Hospitals and Health Systems (VAHHS) for six years. In that role\, he led the association in creating and carrying out its strategic vision; managing advocacy\, policy\, and member relations initiatives; leading public affairs and partnership work; and serving as a liaison to regional and national policy boards and hospital organizations. \nBefore VAHHS\, Jeff was Chief of Staff for the Catholic Health Association (CHA) in Washington\, D.C.\, a national organization representing more than 700 hospitals. He worked at CHA for 12 years where he managed the office of the president and CEO\, directed strategic planning\, and led messaging on health reform and the Affordable Care Act. Earlier in his career\, Jeff worked as a reporter for Modern Healthcare magazine\, where he spent two years in Chicago and two as Washington Bureau Chief. \nJeff received his master’s degree from George Washington University’s School of Political Management in 2014. He earned a Bachelor of Arts degree in Political Science from Colorado College in 1996. \nWhen: Tuesday\, February 24\, 2026. The Zoom waiting room will open at 11:45 a.m.\, and the seminar will begin at noon. This webinar will be recorded and placed on the CCC YouTube channel for those who can’t attend the seminar. \n\nCost: FREE.\n\nWebinar Link: Registrants will receive the Zoom link the morning of February 24th.\n\nREGISTER HERE.
URL:https://cochurches.org/event/unlock-your-advocacy-power-making-change-at-the-federal-level/
CATEGORIES:Lunch 'n' Learn,Voices for Justice
ATTACH;FMTTYPE=image/png:https://cochurches.org/wp-content/uploads/2026/02/Jeff-Tieman-headshot.png
END:VEVENT
END:VCALENDAR